BEGIN:VCALENDAR
VERSION:2.0
PRODID:-//DataPorts - ECPv5.0.0.1//NONSGML v1.0//EN
CALSCALE:GREGORIAN
METHOD:PUBLISH
X-WR-CALNAME:DataPorts
X-ORIGINAL-URL:https://www.dataports-project.eu
X-WR-CALDESC:Events for DataPorts
BEGIN:VTIMEZONE
TZID:Europe/Madrid
BEGIN:DAYLIGHT
TZOFFSETFROM:+0100
TZOFFSETTO:+0200
TZNAME:CEST
DTSTART:20210328T010000
END:DAYLIGHT
BEGIN:STANDARD
TZOFFSETFROM:+0200
TZOFFSETTO:+0100
TZNAME:CET
DTSTART:20211031T010000
END:STANDARD
END:VTIMEZONE
BEGIN:VEVENT
DTSTART;VALUE=DATE:20210525
DTEND;VALUE=DATE:20210528
DTSTAMP:20260421T205031
CREATED:20210420T095338Z
LAST-MODIFIED:20210420T095338Z
UID:2449-1621900800-1622159999@www.dataports-project.eu
SUMMARY:Data Week 2021
DESCRIPTION:Data Week is the spring gathering of the European Big Data and Data-Driven AI research and innovation community. The event follows the tradition of the Big Data Value Summit\, promoting opportunities\, knowledge sharing and fostering Big Data and Data-Driven AI ecosystem development. \nThe 2021 edition of the Data Week aims at bringing together the research and innovation community working on Data\, Big Data and Data-Driven AI\, promoting opportunities for this community to grow and strengthening the ties with the Portuguese ecosystem. The event will highlight Horizon Europe and Digital Europe Programme funding possibilities and give visibility to a large number of European initiatives and projects throughout the field. \nDataPorts will organize the workshop titled “Unleashing the potential of ports and maritime logistics via data-driven solutions: Opportunities and Challenges”\, which will take place on May 27th. This workshop elaborates how data-driven services and applications can help stakeholders in the logistics\, ports\, and maritime sectors to improve their operations. It will also help identify and understand the challenges that must be addressed to facilitate adoption of these solutions. The workshop features interventions from key ICT projects dedicated to data-driven solutions for transport\, including the BDV PPP projects DataPorts and TransformingTransport\, as well as the H2020 projects SmartShip and PIXEL. \nIf you are interested in the event\, you can find more information and register here: https://www.big-data-value.eu/data-week-2021/ \n
URL:https://www.dataports-project.eu/event/data-week-2021/
END:VEVENT
END:VCALENDAR