BEGIN:VCALENDAR
VERSION:2.0
PRODID:-//DataPorts - ECPv5.0.0.1//NONSGML v1.0//EN
CALSCALE:GREGORIAN
METHOD:PUBLISH
X-WR-CALNAME:DataPorts
X-ORIGINAL-URL:https://www.dataports-project.eu
X-WR-CALDESC:Events for DataPorts
BEGIN:VTIMEZONE
TZID:Europe/Madrid
BEGIN:DAYLIGHT
TZOFFSETFROM:+0100
TZOFFSETTO:+0200
TZNAME:CEST
DTSTART:20210328T010000
END:DAYLIGHT
BEGIN:STANDARD
TZOFFSETFROM:+0200
TZOFFSETTO:+0100
TZNAME:CET
DTSTART:20211031T010000
END:STANDARD
END:VTIMEZONE
BEGIN:VEVENT
DTSTART;VALUE=DATE:20210510
DTEND;VALUE=DATE:20210513
DTSTAMP:20260421T221136
CREATED:20210416T105513Z
LAST-MODIFIED:20210416T105513Z
UID:2424-1620604800-1620863999@www.dataports-project.eu
SUMMARY:DataPorts plenary meeting
DESCRIPTION:The DataPorts partners will meet to discuss the current status of the project and continue advancing towards our objectives. Once again\, due to the Covid-19 crisis\, the meeting will be held in a virtual way. \nStay tuned to our social media to keep up to date with the news of DataPorts Project! \n
URL:https://www.dataports-project.eu/event/dataports-plenary-meeting-3/
END:VEVENT
END:VCALENDAR