BEGIN:VCALENDAR
VERSION:2.0
PRODID:-//DataPorts - ECPv5.0.0.1//NONSGML v1.0//EN
CALSCALE:GREGORIAN
METHOD:PUBLISH
X-WR-CALNAME:DataPorts
X-ORIGINAL-URL:https://www.dataports-project.eu
X-WR-CALDESC:Events for DataPorts
BEGIN:VTIMEZONE
TZID:Europe/Madrid
BEGIN:DAYLIGHT
TZOFFSETFROM:+0100
TZOFFSETTO:+0200
TZNAME:CEST
DTSTART:20220327T010000
END:DAYLIGHT
BEGIN:STANDARD
TZOFFSETFROM:+0200
TZOFFSETTO:+0100
TZNAME:CET
DTSTART:20221030T010000
END:STANDARD
END:VTIMEZONE
BEGIN:VEVENT
DTSTART;VALUE=DATE:20221004
DTEND;VALUE=DATE:20221006
DTSTAMP:20260421T095150
CREATED:20220905T084130Z
LAST-MODIFIED:20220905T084130Z
UID:2865-1664841600-1665014399@www.dataports-project.eu
SUMMARY:DataPorts plenary meeting
DESCRIPTION:The DataPorts partners will meet in Valencia\, Spain to discuss the current status of the project and continue advancing towards our objectives. \nStay tuned to our social media to keep up to date with the news of DataPorts Project! \n
URL:https://www.dataports-project.eu/event/dataports-plenary-meeting-6/
END:VEVENT
END:VCALENDAR