BEGIN:VCALENDAR
VERSION:2.0
PRODID:-//DataPorts - ECPv5.0.0.1//NONSGML v1.0//EN
CALSCALE:GREGORIAN
METHOD:PUBLISH
X-WR-CALNAME:DataPorts
X-ORIGINAL-URL:https://www.dataports-project.eu
X-WR-CALDESC:Events for DataPorts
BEGIN:VTIMEZONE
TZID:Europe/Madrid
BEGIN:DAYLIGHT
TZOFFSETFROM:+0100
TZOFFSETTO:+0200
TZNAME:CEST
DTSTART:20200329T010000
END:DAYLIGHT
BEGIN:STANDARD
TZOFFSETFROM:+0200
TZOFFSETTO:+0100
TZNAME:CET
DTSTART:20201025T010000
END:STANDARD
END:VTIMEZONE
BEGIN:VEVENT
DTSTART;VALUE=DATE:20201130
DTEND;VALUE=DATE:20201202
DTSTAMP:20260422T040111
CREATED:20201113T102412Z
LAST-MODIFIED:20201113T105130Z
UID:2203-1606694400-1606867199@www.dataports-project.eu
SUMMARY:DataPorts plenary meeting
DESCRIPTION:The DataPorts partners will meet to discuss the current status of the project and continue advancing towards our objectives. \nDue to the Covid-19 crisis\, the meeting will be held in a virtual way. Despite this problem\, we are excited and strong to offer a great project. \nStay tuned to our social networks to keep up to date with the news of DataPorts Project. Thank you very much for following us. \n
URL:https://www.dataports-project.eu/event/dataports-plenary-meeting/
END:VEVENT
END:VCALENDAR