BEGIN:VCALENDAR
VERSION:2.0
PRODID:-//DataPorts - ECPv5.0.0.1//NONSGML v1.0//EN
CALSCALE:GREGORIAN
METHOD:PUBLISH
X-WR-CALNAME:DataPorts
X-ORIGINAL-URL:https://www.dataports-project.eu
X-WR-CALDESC:Events for DataPorts
BEGIN:VTIMEZONE
TZID:Europe/Madrid
BEGIN:DAYLIGHT
TZOFFSETFROM:+0100
TZOFFSETTO:+0200
TZNAME:CEST
DTSTART:20210328T010000
END:DAYLIGHT
BEGIN:STANDARD
TZOFFSETFROM:+0200
TZOFFSETTO:+0100
TZNAME:CET
DTSTART:20211031T010000
END:STANDARD
END:VTIMEZONE
BEGIN:VEVENT
DTSTART;TZID=Europe/Madrid:20210330T093000
DTEND;TZID=Europe/Madrid:20210330T130000
DTSTAMP:20260421T232919
CREATED:20210224T131612Z
LAST-MODIFIED:20210224T131714Z
UID:2386-1617096600-1617109200@www.dataports-project.eu
SUMMARY:EUH4D Data Forum
DESCRIPTION:EUH4D Data Forum is as an annual event to be held within the framework of the EUH4D project. \nIt is created with the aim of raising awareness\, sharing results and recommendations\, and receiving contributions on strategies and policies from the European Commission around data. \nDataPorts Project will participate in this event\, providing our perspective about the technical challenges in data services. \nIf you are interested in the event\, you can find more information and register here: https://euhubs4data.eu/data-forum/ \n
URL:https://www.dataports-project.eu/event/euh4d-data-forum/
END:VEVENT
END:VCALENDAR