BEGIN:VCALENDAR
VERSION:2.0
PRODID:-//DataPorts - ECPv5.0.0.1//NONSGML v1.0//EN
CALSCALE:GREGORIAN
METHOD:PUBLISH
X-WR-CALNAME:DataPorts
X-ORIGINAL-URL:https://www.dataports-project.eu
X-WR-CALDESC:Events for DataPorts
BEGIN:VTIMEZONE
TZID:Europe/Madrid
BEGIN:DAYLIGHT
TZOFFSETFROM:+0100
TZOFFSETTO:+0200
TZNAME:CEST
DTSTART:20200329T010000
END:DAYLIGHT
BEGIN:STANDARD
TZOFFSETFROM:+0200
TZOFFSETTO:+0100
TZNAME:CET
DTSTART:20201025T010000
END:STANDARD
END:VTIMEZONE
BEGIN:VEVENT
DTSTART;TZID=Europe/Madrid:20201104T110000
DTEND;TZID=Europe/Madrid:20201104T113000
DTSTAMP:20260422T054321
CREATED:20201027T155629Z
LAST-MODIFIED:20201027T155929Z
UID:2061-1604487600-1604489400@www.dataports-project.eu
SUMMARY:Sponsor talk DataPorts project – A Data Platform for the Cognitive Ports of the Future
DESCRIPTION:\nSpeaker \n\nSantiago Cáceres Elvira (Sponsor speaker) Project Manager\, DataPorts\n\n\n\nDescription \n\nHundreds of different European seaports collaborate with each other\, exchanging different digital data from several data sources. However\, to achieve efficient collaboration and benefit from AI-based technology\, a new integrating environment is needed. To this end\, DataPorts project is designing and implementing an Industrial Data Platform. \nThe DataPorts Platform aim is to connect to the different digital infrastructures currently existing in digital seaports\, enabling the interconnection of a wide variety of systems into a tightly integrated ecosystem. In addition\, to set the policies for a trusted and reliable data sharing and trading based on data owners’ rules and offering a clear value proposition. Finally\, to leverage on the data collected to provide advanced Data Analytic services based on which the different actors in the port value chain could develop novel AI and cognitive applications. \nThe project is funded by the European Commission as part of the H2020 Big Data Value PPP programme and coordinated by the Technological Institute of Informatics (ITI). DataPorts rely on the participation of 13 partners from five different nationalities. The project involves the design and implementation of the platform\, its deployment in two relevant European seaports connecting to their existing digital infrastructures and addressing specific local constraints. Furthermore\, a global use case involving these two ports and other actors and targeting inter-port objectives\, and all the actions to foster the adoption of the platform at European level. \nDataPorts will allow establish a future Data Space unique for all maritime ports of Europe and contribute to the EC global objective of creating a Common European Data Space. During this 15-20 minute talk\, the most important and innovative elements of the project and the platform will be presented. \n\n\n
URL:https://www.dataports-project.eu/event/sponsor-talk-dataports-project-a-data-platform-for-the-cognitive-ports-of-the-future/
END:VEVENT
END:VCALENDAR