BEGIN:VCALENDAR
VERSION:2.0
PRODID:-//DataPorts - ECPv5.0.0.1//NONSGML v1.0//EN
CALSCALE:GREGORIAN
METHOD:PUBLISH
X-WR-CALNAME:DataPorts
X-ORIGINAL-URL:https://www.dataports-project.eu
X-WR-CALDESC:Events for DataPorts
BEGIN:VTIMEZONE
TZID:Europe/Madrid
BEGIN:DAYLIGHT
TZOFFSETFROM:+0100
TZOFFSETTO:+0200
TZNAME:CEST
DTSTART:20210328T010000
END:DAYLIGHT
BEGIN:STANDARD
TZOFFSETFROM:+0200
TZOFFSETTO:+0100
TZNAME:CET
DTSTART:20211031T010000
END:STANDARD
END:VTIMEZONE
BEGIN:VEVENT
DTSTART;VALUE=DATE:20210916
DTEND;VALUE=DATE:20210919
DTSTAMP:20260421T174434
CREATED:20210910T091928Z
LAST-MODIFIED:20210910T091928Z
UID:2566-1631750400-1632009599@www.dataports-project.eu
SUMMARY:The 14th International Symposium on Intelligent Distributed Computing
DESCRIPTION:The main goal of the IDC symposium is to gather researchers and practitioners to foster and ease rich discussions around the latest findings\, research achievements and ideas in the area of Intelligent Distributed Computing. \nDataPorts\, in collaboration with the H2020 Project Pixel\, will present the work titled “A novel approach for calculating real-time Composite Indicators relying on Internet of Things and Industrial Data Spaces” in the IoT session. \nYou can find more information here \n  \n
URL:https://www.dataports-project.eu/event/the-14th-international-symposium-on-intelligent-distributed-computing/
END:VEVENT
END:VCALENDAR