BEGIN:VCALENDAR
VERSION:2.0
PRODID:-//DataPorts - ECPv5.0.0.1//NONSGML v1.0//EN
CALSCALE:GREGORIAN
METHOD:PUBLISH
X-WR-CALNAME:DataPorts
X-ORIGINAL-URL:https://www.dataports-project.eu
X-WR-CALDESC:Events for DataPorts
BEGIN:VTIMEZONE
TZID:Europe/Athens
BEGIN:DAYLIGHT
TZOFFSETFROM:+0200
TZOFFSETTO:+0300
TZNAME:EEST
DTSTART:20210328T010000
END:DAYLIGHT
BEGIN:STANDARD
TZOFFSETFROM:+0300
TZOFFSETTO:+0200
TZNAME:EET
DTSTART:20211031T010000
END:STANDARD
END:VTIMEZONE
BEGIN:VEVENT
DTSTART;TZID=Europe/Athens:20210513T160000
DTEND;TZID=Europe/Athens:20210513T180000
DTSTAMP:20260421T204731
CREATED:20210429T141244Z
LAST-MODIFIED:20210505T091611Z
UID:2451-1620921600-1620928800@www.dataports-project.eu
SUMMARY:Workshop on Transforming in Shipping & Maritime with blockchain technologies
DESCRIPTION:      \nThis workshop aspires to be the first step in a series of collaborative actions between DataPorts and Ammitec that will emphasize on the technology transfer in the shipping and maritime ICT community predicting and planning the transformation of seaports. \nChallenges in maritime and shipping addressed by blockchain-based solutions will be presented along with real-life blockchain supported use cases. \n  \nSAVE THE DATE: Thursday 13 May | 16:00 (EEST) \n  \nAGENDA: \nSession 1 | Technology \n16:00 – 16:05 Dataports H2020 Project at a Glance \nChristos A. Gizelis\, PhD\, Senior Digital Transformation Analyst\, OTE Group \n16:05 – 16:15 Blockchain in Maritime 10 min \nKonstantinos Votis\, Researcher Grade B’ & Director of Visual Analytics Lab\, CERTH/ITI \n16:15 – 16:35 Blockchain Use cases – Dataports (A Data Platform for the Connection of Cognitive Ports) \nSofia Terzi\, Blockchain Solutions Architect\, CERTH/ITI\, MSc \n16:35 – 16:50 Q & A \nBreak 10mins \nSession 2 | Overview \n17:00 – 17:10 DataPorts Survey – Identify Market Needs: The Results \nChristos A. Gizelis\, PhD\, Senior Transformation Analyst\, OTE Group \n17:10 – 17:20 Challenges in Maritime \nStelios Sabanis\, President of Ammitec \n17:20 – 17:40 Discussion\, Round Table – Address Challenges with Blockchain  \nKonstantinos Votis\, Researcher Grade B’ & Director of Visual Analytics Lab\, CERTH/ITI \nSofia Terzi\, Blockchain Solutions Architect\, CERTH/ITI\, MSc \n17:40 – 18:00 Q & A \n  \nJoin here: \nhttps://certh.webex.com/certh/j.php?MTID=me5870212104981785faf6599b0b72afa \n  \n
URL:https://www.dataports-project.eu/event/workshop-on-transforming-in-shipping-maritime-with-blockchain-technologies/
END:VEVENT
END:VCALENDAR